BEGIN:VCALENDAR
VERSION:2.0
PRODID:-//Paroisse Sainte Anne - Saint Clair, Nantes - ECPv6.15.11//NONSGML v1.0//EN
CALSCALE:GREGORIAN
METHOD:PUBLISH
X-WR-CALNAME:Paroisse Sainte Anne - Saint Clair, Nantes
X-ORIGINAL-URL:https://sainteannesaintclair.fr
X-WR-CALDESC:Évènements pour Paroisse Sainte Anne - Saint Clair, Nantes
REFRESH-INTERVAL;VALUE=DURATION:PT1H
X-Robots-Tag:noindex
X-PUBLISHED-TTL:PT1H
BEGIN:VTIMEZONE
TZID:Europe/Paris
BEGIN:DAYLIGHT
TZOFFSETFROM:+0100
TZOFFSETTO:+0200
TZNAME:CEST
DTSTART:20170326T010000
END:DAYLIGHT
BEGIN:STANDARD
TZOFFSETFROM:+0200
TZOFFSETTO:+0100
TZNAME:CET
DTSTART:20171029T010000
END:STANDARD
BEGIN:DAYLIGHT
TZOFFSETFROM:+0100
TZOFFSETTO:+0200
TZNAME:CEST
DTSTART:20180325T010000
END:DAYLIGHT
BEGIN:STANDARD
TZOFFSETFROM:+0200
TZOFFSETTO:+0100
TZNAME:CET
DTSTART:20181028T010000
END:STANDARD
BEGIN:DAYLIGHT
TZOFFSETFROM:+0100
TZOFFSETTO:+0200
TZNAME:CEST
DTSTART:20190331T010000
END:DAYLIGHT
BEGIN:STANDARD
TZOFFSETFROM:+0200
TZOFFSETTO:+0100
TZNAME:CET
DTSTART:20191027T010000
END:STANDARD
END:VTIMEZONE
BEGIN:VEVENT
DTSTART;VALUE=DATE:20181006
DTEND;VALUE=DATE:20181007
DTSTAMP:20260422T013022
CREATED:20180930T183522Z
LAST-MODIFIED:20180930T183522Z
UID:2048-1538784000-1538870399@sainteannesaintclair.fr
SUMMARY:Une journée avec les Sœurs Clarisses de Nantes pour les 18-30 ans
DESCRIPTION:En union avec le Synode sur les jeunes\, les moines et les moniales ouvrent leurs portes pour un accueil spécifique adressée aux jeunes de 18-30 ans le samedi 6 octobre. \n \nS’inscrire auprès de Sœur Marie-Noëlle au monastère des Sœurs clarisses  de Nantes\, 20 rue Molac 44000 Nantes\, par mail (clarisses2nantes@sfr.fr) ou par téléphone (02 40 20 37 36).
URL:https://sainteannesaintclair.fr/event/journee-soeurs-clarisses-de-nantes-18-30-ans/
LOCATION:Monastère des Clarisses\, 20 Rue Molac\, Nantes\, 44000\, France
CATEGORIES:Vie du Diocèse et de l'Église
ORGANIZER;CN="Soeur Marie-No%C3%ABlle":MAILTO:clarisses2nantes@sfr.fr
END:VEVENT
END:VCALENDAR