BEGIN:VCALENDAR
VERSION:2.0
PRODID:-//Paroisse Sainte Anne - Saint Clair, Nantes - ECPv6.15.11//NONSGML v1.0//EN
CALSCALE:GREGORIAN
METHOD:PUBLISH
X-WR-CALNAME:Paroisse Sainte Anne - Saint Clair, Nantes
X-ORIGINAL-URL:https://sainteannesaintclair.fr
X-WR-CALDESC:Évènements pour Paroisse Sainte Anne - Saint Clair, Nantes
REFRESH-INTERVAL;VALUE=DURATION:PT1H
X-Robots-Tag:noindex
X-PUBLISHED-TTL:PT1H
BEGIN:VTIMEZONE
TZID:Europe/Paris
BEGIN:DAYLIGHT
TZOFFSETFROM:+0100
TZOFFSETTO:+0200
TZNAME:CEST
DTSTART:20170326T010000
END:DAYLIGHT
BEGIN:STANDARD
TZOFFSETFROM:+0200
TZOFFSETTO:+0100
TZNAME:CET
DTSTART:20171029T010000
END:STANDARD
BEGIN:DAYLIGHT
TZOFFSETFROM:+0100
TZOFFSETTO:+0200
TZNAME:CEST
DTSTART:20180325T010000
END:DAYLIGHT
BEGIN:STANDARD
TZOFFSETFROM:+0200
TZOFFSETTO:+0100
TZNAME:CET
DTSTART:20181028T010000
END:STANDARD
BEGIN:DAYLIGHT
TZOFFSETFROM:+0100
TZOFFSETTO:+0200
TZNAME:CEST
DTSTART:20190331T010000
END:DAYLIGHT
BEGIN:STANDARD
TZOFFSETFROM:+0200
TZOFFSETTO:+0100
TZNAME:CET
DTSTART:20191027T010000
END:STANDARD
END:VTIMEZONE
BEGIN:VEVENT
DTSTART;TZID=Europe/Paris:20180111T200000
DTEND;TZID=Europe/Paris:20180111T213000
DTSTAMP:20260420T142121
CREATED:20180112T083921Z
LAST-MODIFIED:20180112T084002Z
UID:728-1515700800-1515706200@sainteannesaintclair.fr
SUMMARY:Soirée de sensibilisation à l’accueil des migrants
DESCRIPTION:Soirée de sensibilisation à l’accueil des migrants organisée par notre zone paroissiale jeudi 11 janvier 2018 de 20h à 21h30 en l’église St Thomas\, à St Herblain.
URL:https://sainteannesaintclair.fr/event/soiree-de-sensibilisation-a-laccueil-des-migrants/
LOCATION:Eglise Saint Thomas à Saint Herblain\, Rue Benjamin Franklin\, Saint-Herblain\, 44800\, France
CATEGORIES:Vie de la Zone Paroissiale
ATTACH;FMTTYPE=image/jpeg:https://sainteannesaintclair.fr/wp-content/uploads/2018/01/logo_pastorale_des_migrants.jpg
END:VEVENT
END:VCALENDAR