BEGIN:VCALENDAR
VERSION:2.0
PRODID:-//Paroisse Sainte Anne - Saint Clair, Nantes - ECPv6.15.11//NONSGML v1.0//EN
CALSCALE:GREGORIAN
METHOD:PUBLISH
X-ORIGINAL-URL:https://sainteannesaintclair.fr
X-WR-CALDESC:Évènements pour Paroisse Sainte Anne - Saint Clair, Nantes
REFRESH-INTERVAL;VALUE=DURATION:PT1H
X-Robots-Tag:noindex
X-PUBLISHED-TTL:PT1H
BEGIN:VTIMEZONE
TZID:Europe/Paris
BEGIN:DAYLIGHT
TZOFFSETFROM:+0100
TZOFFSETTO:+0200
TZNAME:CEST
DTSTART:20170326T010000
END:DAYLIGHT
BEGIN:STANDARD
TZOFFSETFROM:+0200
TZOFFSETTO:+0100
TZNAME:CET
DTSTART:20171029T010000
END:STANDARD
BEGIN:DAYLIGHT
TZOFFSETFROM:+0100
TZOFFSETTO:+0200
TZNAME:CEST
DTSTART:20180325T010000
END:DAYLIGHT
BEGIN:STANDARD
TZOFFSETFROM:+0200
TZOFFSETTO:+0100
TZNAME:CET
DTSTART:20181028T010000
END:STANDARD
BEGIN:DAYLIGHT
TZOFFSETFROM:+0100
TZOFFSETTO:+0200
TZNAME:CEST
DTSTART:20190331T010000
END:DAYLIGHT
BEGIN:STANDARD
TZOFFSETFROM:+0200
TZOFFSETTO:+0100
TZNAME:CET
DTSTART:20191027T010000
END:STANDARD
END:VTIMEZONE
BEGIN:VEVENT
DTSTART;TZID=Europe/Paris:20180531T203000
DTEND;TZID=Europe/Paris:20180531T223000
DTSTAMP:20260421T122539
CREATED:20180523T170258Z
LAST-MODIFIED:20180523T170258Z
UID:1628-1527798600-1527805800@sainteannesaintclair.fr
SUMMARY:Rencontre des animateurs de chants\, des musiciens ...
DESCRIPTION:Rencontre des animateurs de chants\, des musiciens …
URL:https://sainteannesaintclair.fr/event/rencontre-animateurs-de-chants-musiciens/
LOCATION:Presbytère de Saint Clair\, 10\, Rue Maxime Maufra\, Nantes\, 44100\, France
CATEGORIES:Equipe d'Animation Liturgique,Réunion de Service
END:VEVENT
END:VCALENDAR