BEGIN:VCALENDAR
VERSION:2.0
PRODID:-//Paroisse Sainte Anne - Saint Clair, Nantes - ECPv6.15.11//NONSGML v1.0//EN
CALSCALE:GREGORIAN
METHOD:PUBLISH
X-ORIGINAL-URL:https://sainteannesaintclair.fr
X-WR-CALDESC:Évènements pour Paroisse Sainte Anne - Saint Clair, Nantes
REFRESH-INTERVAL;VALUE=DURATION:PT1H
X-Robots-Tag:noindex
X-PUBLISHED-TTL:PT1H
BEGIN:VTIMEZONE
TZID:Europe/Paris
BEGIN:DAYLIGHT
TZOFFSETFROM:+0100
TZOFFSETTO:+0200
TZNAME:CEST
DTSTART:20170326T010000
END:DAYLIGHT
BEGIN:STANDARD
TZOFFSETFROM:+0200
TZOFFSETTO:+0100
TZNAME:CET
DTSTART:20171029T010000
END:STANDARD
BEGIN:DAYLIGHT
TZOFFSETFROM:+0100
TZOFFSETTO:+0200
TZNAME:CEST
DTSTART:20180325T010000
END:DAYLIGHT
BEGIN:STANDARD
TZOFFSETFROM:+0200
TZOFFSETTO:+0100
TZNAME:CET
DTSTART:20181028T010000
END:STANDARD
BEGIN:DAYLIGHT
TZOFFSETFROM:+0100
TZOFFSETTO:+0200
TZNAME:CEST
DTSTART:20190331T010000
END:DAYLIGHT
BEGIN:STANDARD
TZOFFSETFROM:+0200
TZOFFSETTO:+0100
TZNAME:CET
DTSTART:20191027T010000
END:STANDARD
END:VTIMEZONE
BEGIN:VEVENT
DTSTART;TZID=Europe/Paris:20180120T110000
DTEND;TZID=Europe/Paris:20180120T120000
DTSTAMP:20260421T195219
CREATED:20180111T172516Z
LAST-MODIFIED:20180111T182555Z
UID:700-1516446000-1516449600@sainteannesaintclair.fr
SUMMARY:Prière des Familles avec Soeur Agathe
DESCRIPTION:Jeune religieuse pleine d’énergie pour partager sa Foi et son engagement\, Sœur Agathe anime des veillées de chants et prières. Ce samedi 20 janvier\, elle sera avec nous lors de la prière des familles qui se tient tous les mois dans la paroisse. Eglise Sainte Anne\, à 11 h \nAnne-Charlotte et Xavier Boutin       
URL:https://sainteannesaintclair.fr/event/priere-des-familles-avec-soeur-agathe/
LOCATION:Église Sainte Anne\, 4 Rue Mounet Sully\, Nantes\, 44100\, France
CATEGORIES:Temps de prière
ATTACH;FMTTYPE=image/png:https://sainteannesaintclair.fr/wp-content/uploads/2018/01/photo_couverture_album_soeur_agathe.png
ORGANIZER;CN="Pri%C3%A8re des Familles":MAILTO:xavancha.boutin@icloud.com
END:VEVENT
END:VCALENDAR